BEGIN:VCALENDAR
VERSION:2.0
PRODID:-//The Piedmont Environmental Council - ECPv6.15.20//NONSGML v1.0//EN
CALSCALE:GREGORIAN
METHOD:PUBLISH
X-WR-CALNAME:The Piedmont Environmental Council
X-ORIGINAL-URL:https://www.pecva.org
X-WR-CALDESC:Events for The Piedmont Environmental Council
REFRESH-INTERVAL;VALUE=DURATION:PT1H
X-Robots-Tag:noindex
X-PUBLISHED-TTL:PT1H
BEGIN:VTIMEZONE
TZID:America/New_York
BEGIN:DAYLIGHT
TZOFFSETFROM:-0500
TZOFFSETTO:-0400
TZNAME:EDT
DTSTART:20240310T070000
END:DAYLIGHT
BEGIN:STANDARD
TZOFFSETFROM:-0400
TZOFFSETTO:-0500
TZNAME:EST
DTSTART:20241103T060000
END:STANDARD
BEGIN:DAYLIGHT
TZOFFSETFROM:-0500
TZOFFSETTO:-0400
TZNAME:EDT
DTSTART:20250309T070000
END:DAYLIGHT
BEGIN:STANDARD
TZOFFSETFROM:-0400
TZOFFSETTO:-0500
TZNAME:EST
DTSTART:20251102T060000
END:STANDARD
BEGIN:DAYLIGHT
TZOFFSETFROM:-0500
TZOFFSETTO:-0400
TZNAME:EDT
DTSTART:20260308T070000
END:DAYLIGHT
BEGIN:STANDARD
TZOFFSETFROM:-0400
TZOFFSETTO:-0500
TZNAME:EST
DTSTART:20261101T060000
END:STANDARD
END:VTIMEZONE
BEGIN:VEVENT
DTSTART;TZID=America/New_York:20250808T040000
DTEND;TZID=America/New_York:20250808T190000
DTSTAMP:20260422T182453
CREATED:20250722T204803Z
LAST-MODIFIED:20250807T201229Z
UID:10001234-1754625600-1754679600@www.pecva.org
SUMMARY:Mobility Alliance Meeting + Social
DESCRIPTION:Do you like to walk\, bike\, run or paddle – or just move freely in fresh air? The Piedmont Mobility Alliance is a coalition focused on making it easier and safer to get outdoors. This informal gathering will be a chance to learn\, share and collaborate\, with a special emphasis on connectivity along the Rivanna River.  \n\n\n\nTentative Schedule4-4:30 Networking4:30-5:15 Optional workgroup tables e.g. Free Bridge Lane\, Old Mills Trail\, Three Notched Trail5:15 Round room intros and updates5:40 (approx) Tour of Cville Tool Library6:00+: Social\, networking \n\n\n\nAll are welcome!  \n\n\n\nThere will be beer specials\, plenty of non-alcoholic options\, snacks\, plus pizza and pretzels for purchase.
URL:https://www.pecva.org/event/mobility-alliance-meeting-social/
LOCATION:Decipher Brewing\, 1740 Broadway Street\, Charlottesville\, 22902
ATTACH;FMTTYPE=image/jpeg:https://www.pecva.org/wp-content/uploads/Piedmont-Mobility-Alliance-Monthly-Meeting-Square.jpg
END:VEVENT
BEGIN:VEVENT
DTSTART;TZID=America/New_York:20250808T180000
DTEND;TZID=America/New_York:20250808T200000
DTSTAMP:20260422T182453
CREATED:20250730T235238Z
LAST-MODIFIED:20250730T235247Z
UID:10001235-1754676000-1754683200@www.pecva.org
SUMMARY:Nature Photography Walk at the Piedmont Memorial Overlook
DESCRIPTION:Bring along your camera or smartphone for a collaborative photography walk and learn with PEC’s Hugh Kenny and October Greenfield. Hugh and October will guide participants in how to take their best nature photos while enjoying the beauty of the Piedmont Memorial Overlook. \n\n\n\nAll skill levels are welcome. The walk will traverse a mowed walking path with occasional uneven terrain. Be sure to wear appropriate footwear and clothing (sunscreen and bug spray recommended). \n\n\n\n\nRegister\n\n\n\n\nAbout the Overlook\n\n\n\nThe Piedmont Memorial Overlook sits within a large block of privately and publicly protected land along the Blue Ridge Mountains that is a patchwork of forest\, livestock pasture\, and mountainous fields. The land was actively farmed from the late 18th century until the recent past\, and was heavily grazed by cattle. \n\n\n\nIn 2012\, PEC began an extensive restoration effort on the 50-acre parcel with funding from the USDA\, first eliminating fescue and other non-native plants from the pasture\, and then seeding native grasses and wildflowers. The property now serves as an active demonstration site for landowners who are interested in viewing habitat restoration practices. \n\n\n\nThe 15+ acre native meadow is home to songbirds\, butterflies\, raptors\, bees and black bears. It was planted with 16 native wildflower species that provide forage for pollinators and habitat for grassland and shrubland birds. PEC manages the meadow using prescribed fire\, late winter mowing\, and invasive species monitoring. \n\n\n\nEvent Details\n\n\n\nWeather policy: This event will be held rain or shine\, barring any adverse weather conditions. \n\n\n\nWhat to wear: Dress for the weather and wear comfortable clothes you can move in! We will be walking through grass and tall vegetation. \n\n\n\nWhat to bring: Water bottle\, hat\, sunscreen\, bug spray\, camera and binoculars. \n\n\n\n* Please note that there are no restroom facilities available at the Overlook. Water and snacks will be available for attendees. \n\n\n\nDirections: We will email directions to registrants.
URL:https://www.pecva.org/event/nature-photography-walk-at-the-piedmont-memorial-overlook/
LOCATION:Virginia
ATTACH;FMTTYPE=image/jpeg:https://www.pecva.org/wp-content/uploads/piedmont_memorial_overlook_bloom_7-20-2018_credit_marco_sanchez_1.jpg
END:VEVENT
BEGIN:VEVENT
DTSTART;TZID=America/New_York:20250809T090000
DTEND;TZID=America/New_York:20250809T120000
DTSTAMP:20260422T182453
CREATED:20250717T195915Z
LAST-MODIFIED:20250717T195927Z
UID:10001233-1754730000-1754740800@www.pecva.org
SUMMARY:Bird Box Workshop
DESCRIPTION:Join Building Goodness Foundation to learn how to build a nest box and do your part to boost bluebird conservation efforts in Virginia. Attendees will be building the boxes to support the Piedmont Environmental Council’s work to regrow grassland bird populations. All participants will also get to take one box home.  \n\n\n\nNo construction experience is necessary\, and all tools and materials will be provided. PEC will explain the importance of grassland birds and demonstrate how to take care of your new bird box.  \n\n\n\nSpots are limited\, so register today at buildinggoodness.org.
URL:https://www.pecva.org/event/bird-box-workshop/
LOCATION:Building Goodness Foundation\, 128 Carlton Road\, Charlottesville\, Virginia\, 22902
ATTACH;FMTTYPE=image/jpeg:https://www.pecva.org/wp-content/uploads/Bird_Box_Workshop_graphic_final-1.jpg
END:VEVENT
BEGIN:VEVENT
DTSTART;TZID=America/New_York:20250815T170000
DTEND;TZID=America/New_York:20250816T170000
DTSTAMP:20260422T182453
CREATED:20250513T204159Z
LAST-MODIFIED:20250724T203334Z
UID:10001222-1755277200-1755363600@www.pecva.org
SUMMARY:Generation NEXT Workshop: Landowner Legacy Planning
DESCRIPTION:Generation NEXT\, a program of the Virginia Department of Forestry and Virginia Cooperative Extension\, exists to help landowners and their families engage in legacy planning for their rural land.  \n\n\n\nThis full workshop\, which includes an evening portion August 15 followed by a full day August 16 at Montpelier in Orange County\, offers presentations and the opportunity to interact with legal\, financial\, and conservation experts as well as experienced fellow landowners. PEC will serve as one of the presenters.  \n\n\n\nMore information will be available when registration opens in early June.  \n\n\n\nLearn more\, download fliers\, or register on the Generation NEXT website. Contact Karen Snape\, Extension Associate\, at 540-231-6494 or ksnape@vt.edu with questions or requests\, including accessibility requests.
URL:https://www.pecva.org/event/generation-next-workshop-landowner-legacy-planning/
LOCATION:Virginia
ATTACH;FMTTYPE=image/jpeg:https://www.pecva.org/wp-content/uploads/goodall_property_ale_easement_madison_county_5-7-24_credit_hugh_kenny_pec-10.jpg
END:VEVENT
BEGIN:VEVENT
DTSTART;TZID=America/New_York:20250827T103000
DTEND;TZID=America/New_York:20250827T113000
DTSTAMP:20260422T182453
CREATED:20250814T161635Z
LAST-MODIFIED:20250814T161652Z
UID:10001238-1756290600-1756294200@www.pecva.org
SUMMARY:Free Bridge Lane Workshop
DESCRIPTION:The Free Bridge Lane Workgroup convenes monthly to coordinate implementation of the car-free promenade along the Rivanna River in Albemarle County. All are welcome to join this group that is focused on practical short-term solutions and raising funds for a parkspace that is welcoming for all. \n\n\n\nThis meeting is hybrid. We encourage you to join in person at 920 East High Street. Use this link to remote access the meeting: meet.google.com/dug-wqub-avh \n\n\n\nAug. 27 AgendaIntroductionsRecapping Board of Supervisors discussionStoryWalk Part 2Plantings / InvasivesNext Round of InterventionsFundraisingPublic Interest Meeting / PEC Fellowship presentation \n\n\n\nRecent News: Albemarle County Board of Supervisors votes to direct county staff to begin the formal process to permanently transforming Free Bridge from a roadway into a linear park.
URL:https://www.pecva.org/event/free-bridge-lane-workshop/
LOCATION:Sentara Martha Jefferson Outpatient Care Center\, 920 East High Street\, Charlottesville\, Virginia\, 22902
ATTACH;FMTTYPE=image/jpeg:https://www.pecva.org/wp-content/uploads/FBL_Storywalk_Peter-Krebs_8235-1-e1755187848296.jpg
END:VEVENT
END:VCALENDAR