BEGIN:VCALENDAR
VERSION:2.0
PRODID:-//The Piedmont Environmental Council - ECPv6.15.20//NONSGML v1.0//EN
CALSCALE:GREGORIAN
METHOD:PUBLISH
X-WR-CALNAME:The Piedmont Environmental Council
X-ORIGINAL-URL:https://www.pecva.org
X-WR-CALDESC:Events for The Piedmont Environmental Council
REFRESH-INTERVAL;VALUE=DURATION:PT1H
X-Robots-Tag:noindex
X-PUBLISHED-TTL:PT1H
BEGIN:VTIMEZONE
TZID:America/New_York
BEGIN:DAYLIGHT
TZOFFSETFROM:-0500
TZOFFSETTO:-0400
TZNAME:EDT
DTSTART:20230312T070000
END:DAYLIGHT
BEGIN:STANDARD
TZOFFSETFROM:-0400
TZOFFSETTO:-0500
TZNAME:EST
DTSTART:20231105T060000
END:STANDARD
BEGIN:DAYLIGHT
TZOFFSETFROM:-0500
TZOFFSETTO:-0400
TZNAME:EDT
DTSTART:20240310T070000
END:DAYLIGHT
BEGIN:STANDARD
TZOFFSETFROM:-0400
TZOFFSETTO:-0500
TZNAME:EST
DTSTART:20241103T060000
END:STANDARD
BEGIN:DAYLIGHT
TZOFFSETFROM:-0500
TZOFFSETTO:-0400
TZNAME:EDT
DTSTART:20250309T070000
END:DAYLIGHT
BEGIN:STANDARD
TZOFFSETFROM:-0400
TZOFFSETTO:-0500
TZNAME:EST
DTSTART:20251102T060000
END:STANDARD
END:VTIMEZONE
BEGIN:VEVENT
DTSTART;TZID=America/New_York:20241115T083000
DTEND;TZID=America/New_York:20241115T100000
DTSTAMP:20260422T211603
CREATED:20241106T192656Z
LAST-MODIFIED:20241106T193014Z
UID:10001189-1731659400-1731664800@www.pecva.org
SUMMARY:November Piedmont Mobility Alliance Meeting
DESCRIPTION:The Piedmont Mobility Alliance (pecva.org/mobilityalliance) is a coalition of organizations\, agencies\, businesses and groups who share a vision of a better-connected community for walking\, biking and other forms of active transportation in Charlottesville and Albemarle County. We gather every two months to share updates and work collaboratively on projects that none can accomplish alone. \n\n\n\nThis meeting is in person with a Zoom option: https://us06web.zoom.us/j/82749744542 \n\n\n\nAgenda to come. \n\n\n\n[Notes from September 30 Meeting]
URL:https://www.pecva.org/event/piedmont-mobility-alliance/
LOCATION:Virginia
ATTACH;FMTTYPE=image/jpeg:https://www.pecva.org/wp-content/uploads/cville-bike-to-work-week-2023-group-photo-credit-hugh-kenny-pec-1200x-jpg.webp
END:VEVENT
END:VCALENDAR