BEGIN:VCALENDAR
VERSION:2.0
PRODID:-//The Piedmont Environmental Council - ECPv6.15.20//NONSGML v1.0//EN
CALSCALE:GREGORIAN
METHOD:PUBLISH
X-WR-CALNAME:The Piedmont Environmental Council
X-ORIGINAL-URL:https://www.pecva.org
X-WR-CALDESC:Events for The Piedmont Environmental Council
REFRESH-INTERVAL;VALUE=DURATION:PT1H
X-Robots-Tag:noindex
X-PUBLISHED-TTL:PT1H
BEGIN:VTIMEZONE
TZID:America/New_York
BEGIN:DAYLIGHT
TZOFFSETFROM:-0500
TZOFFSETTO:-0400
TZNAME:EDT
DTSTART:20230312T070000
END:DAYLIGHT
BEGIN:STANDARD
TZOFFSETFROM:-0400
TZOFFSETTO:-0500
TZNAME:EST
DTSTART:20231105T060000
END:STANDARD
BEGIN:DAYLIGHT
TZOFFSETFROM:-0500
TZOFFSETTO:-0400
TZNAME:EDT
DTSTART:20240310T070000
END:DAYLIGHT
BEGIN:STANDARD
TZOFFSETFROM:-0400
TZOFFSETTO:-0500
TZNAME:EST
DTSTART:20241103T060000
END:STANDARD
BEGIN:DAYLIGHT
TZOFFSETFROM:-0500
TZOFFSETTO:-0400
TZNAME:EDT
DTSTART:20250309T070000
END:DAYLIGHT
BEGIN:STANDARD
TZOFFSETFROM:-0400
TZOFFSETTO:-0500
TZNAME:EST
DTSTART:20251102T060000
END:STANDARD
END:VTIMEZONE
BEGIN:VEVENT
DTSTART;TZID=America/New_York:20240405T090000
DTEND;TZID=America/New_York:20240405T140000
DTSTAMP:20260423T131455
CREATED:20240314T212938Z
LAST-MODIFIED:20240314T212940Z
UID:10001042-1712307600-1712325600@www.pecva.org
SUMMARY:Spring Cleaning at Rappahannock County Park
DESCRIPTION:Winter has been a busy time this year at Rappahannock County Park. Come witness the huge changes brought about by a major invasive treatment/removal effort and replanting in sections of the wooded area. Hosted by Rappahannock County Park. \n\n\n\nJoin our spring cleanup of: \n\n\n\n\npollinator gardens\, meadow areas\, and trails\n\n\n\nwooded area above the upper trail\n\n\n\nVirginia Bluebell trail planted along the Rush River\n\n\n\ngarlic mustard and other bad players\n\n\n\n\nAttendees will learn how to use  iNaturalist to record observations in park\, including spring ephemeral. \n\n\n\nBring work gloves and loppers. Snacks will be provided. \n\n\n\nSign up: https://www.letsvolunteer.org/need/detail/?need_id=912201
URL:https://www.pecva.org/event/spring-cleaning-at-rappahannock-county-park/
LOCATION:Virginia
END:VEVENT
BEGIN:VEVENT
DTSTART;TZID=America/New_York:20240406T090000
DTEND;TZID=America/New_York:20240406T130000
DTSTAMP:20260423T131455
CREATED:20240329T191640Z
LAST-MODIFIED:20240329T191651Z
UID:10001052-1712394000-1712408400@www.pecva.org
SUMMARY:Park Day
DESCRIPTION:Each year\, thousands of history enthusiasts\, community-minded citizens\, families\, Boy and Girl Scouts\, ROTC units and more come together in an effort to help keep our nation’s heritage not only preserved\, but pristine. Activities are chosen by each participating site and can include building trails\, raking leaves\, painting signs\, putting up fences and contributing to site interpretation. \n\n\n\nLearn more: https://www.battlefields.org/parkday \n\n\n\nIn addition to the satisfaction that volunteer work brings\, participants receive official Park Day backpacks and may have the chance to hear a local historian describe people and events of the past at their site. Park Day can also be used to fulfill the service requirements associated with scout groups\, student organizations\, training corps programs\, many school systems\, and more. \n\n\n\nPark Day allows the American Battlefield Trust to cast a spotlight on beloved American landscapes nationwide. Projects will keep historic sites and battlefields clean\, open and accessible for the enjoyment of all — this year\, Park Day projects included painting signs\, garden maintenance\, trash and leaf removal\, marker clean-up\, trail and fence building and more! \n\n\n\nOpportunities in PEC’s nine-county region: \n\n\n\n\nBall’s Bluff Battlefield Regional Park\, Leesburg\n\n\n\nBrandy Station Graffiti House\, Brandy Station\n\n\n\nHistoric Salubria\, Stevensburg\n\n\n\nCedar Mountain Battlefield\, Rapidan\n\n\n\nFredericksburg and Spotsylvania National Military Park\, Locust Grove\n\n\n\nPayne’s Farm\, Locust Grove
URL:https://www.pecva.org/event/park-day/
LOCATION:Virginia
END:VEVENT
BEGIN:VEVENT
DTSTART;TZID=America/New_York:20240407T110000
DTEND;TZID=America/New_York:20240407T130000
DTSTAMP:20260423T131455
CREATED:20240125T204338Z
LAST-MODIFIED:20240125T204349Z
UID:10001032-1712487600-1712494800@www.pecva.org
SUMMARY:21st Annual Bluebell Walk on Cedar Run
DESCRIPTION:Join The Piedmont Environmental Council’s Julian W. Scheer Fauquier Land Conservation Fund for the 21st Annual Bluebell Walk on Cedar Run. \n\n\n\nBluebells on Cedar Run. Credit Hugh Kenny/PEC\n\n\n\nThis family-friendly event is a delightful chance to walk amongst a beautiful streamside field of Virginia’s iconic and ephemeral bluebells on a private conserved property. Along the walk\, hear from experts covering a wide range of topics including beavers\, native meadow and riparian habitat restoration for birds\, butterflies\, and other critters\, invasive species removal and more! \n\n\n\nPlease note\, round trip the walk will be approximately one mile in length through fields. Please remember to wear sturdy shoes that are able to get dirty and bring your tall boots or waders — a special treat awaits those brave enough to wade across Cedar Run! \n\n\n\nNo dogs are allowed on this private property. There is no charge for this event. Donations are welcome for the Julian W. Scheer Fauquier Land Conservation Fund for continued land and water conservation efforts in Fauquier County. \n\n\n\nThe event is hosted by Mike and Margrete Stevens at Bonny Brook Farm in Catlett\, Virginia. \n\n\n\nRain or Shine! \n\n\n\nRegistration is not required. You can join the festivities as a walk up! RSVP: https://www.eventbrite.com/e/21st-annual-bluebell-walk-on-cedar-run-tickets-810706042597 \n\n\n\nDisclaimer: We will be sharing the pasture not only with wildflowers but with wildlife and insects\, so please be respectful. As with all outdoor activities\, appropriate clothing and footwear are strongly advised.
URL:https://www.pecva.org/event/21st-annual-bluebell-walk-on-cedar-run/
LOCATION:Bonny Brook Farm\, 8446 Old Dumfries Road\, Catlett\, Virginia\, 20119\, United States
ATTACH;FMTTYPE=image/png:https://www.pecva.org/wp-content/uploads/Bluebell-Walk-Banner.png
END:VEVENT
BEGIN:VEVENT
DTSTART;TZID=America/New_York:20240409T120000
DTEND;TZID=America/New_York:20240409T130000
DTSTAMP:20260423T131455
CREATED:20240327T190814Z
LAST-MODIFIED:20240327T191854Z
UID:10001047-1712664000-1712667600@www.pecva.org
SUMMARY:Solarize Virginia Webinar Series
DESCRIPTION:Solarize Virginia launches on April 1! Be an early bird by joining us for an informative lunchtime webinar on the benefits of solar\, how our solar campaign works\, and how we as a community can come together for a brighter future. \n\n\n\nSolarize Virginia is a collaboration between the Local Energy Alliance Program (LEAP)\, nonprofit organizations like PEC\, and municipalities throughout Virginia. \n\n\n\nRegister: https://zoom.us/meeting/register/tJ0vdO2rrzgjH9DeEXt35x04-M8Te24WoA6q#/registration
URL:https://www.pecva.org/event/solarize-virginia-webinar-series/
LOCATION:Virginia
ATTACH;FMTTYPE=image/jpeg:https://www.pecva.org/wp-content/uploads/solarize-webinar-series-jpg.webp
END:VEVENT
BEGIN:VEVENT
DTSTART;TZID=America/New_York:20240413T090000
DTEND;TZID=America/New_York:20240413T150000
DTSTAMP:20260423T131455
CREATED:20240212T175409Z
LAST-MODIFIED:20240212T175412Z
UID:10001034-1712998800-1713020400@www.pecva.org
SUMMARY:Spring Native Plant Sale at Morven Park
DESCRIPTION:Native plants add beauty and interest to your garden year-round and provide important habitat for wildlife. Loudoun Wildlife Conservancy’s Native Plant Sale is the place to buy spring-blooming flowers\, vines\, trees\, shrubs and ferns from four local native plant nurseries: Hill House Farm & Nursery\, Nature By Design\, Seven Bends Nursery and Watermark Woods.  The sale takes place at the visitor parking lot (access via main entrance on Old Waterford Road) and will be staffed by volunteers knowledgeable about native plants who can advise you on selecting natives for your garden. \n\n\n\nLearn more: https://loudounwildlife.org/event/spring-native-plant-sale/ \n\n\n\nQuestions: Contact nativeplantsale@loudounwildlife.org
URL:https://www.pecva.org/event/spring-native-plant-sale-at-morven-park-2/
LOCATION:Virginia
END:VEVENT
BEGIN:VEVENT
DTSTART;TZID=America/New_York:20240413T100000
DTEND;TZID=America/New_York:20240413T150000
DTSTAMP:20260423T131455
CREATED:20240308T142848Z
LAST-MODIFIED:20240308T142850Z
UID:10001041-1713002400-1713020400@www.pecva.org
SUMMARY:Amplifying Indigenous Women’s Perspectives for Healthy Soil and Water
DESCRIPTION:Join Agricair and Oatlands in collaboration with Virginia Tech Center For Food Systems & Community Transportation\, for a day of learning and co-creation at Oatlands House in Loudoun County. Speakers will include Dr. Lyla June Johnston an artist\, scholar and community organizer with Diné (Navajo)\, Tsétsêhéstâhese (Cheyenne) and European lineages\, René Locklear White\, an Indigenous chef and community organizer of the Lumbee Tribe\, and Victoria Persinger Ferguson\, a history Keeper and enrolled Citizen of the Monacan Indian Nation. This event is supported by PEC and other partners. \n\n\n\nRegister: https://www.agricair.org/co-creating-2024
URL:https://www.pecva.org/event/amplifying-indigenous-womens-perspectives-for-healthy-soil-and-water/
LOCATION:Virginia
ATTACH;FMTTYPE=image/jpeg:https://www.pecva.org/wp-content/uploads/2024_events_headers-jpg.webp
END:VEVENT
BEGIN:VEVENT
DTSTART;TZID=America/New_York:20240416T173000
DTEND;TZID=America/New_York:20240416T203000
DTSTAMP:20260423T131455
CREATED:20240123T194800Z
LAST-MODIFIED:20240129T142548Z
UID:10001030-1713288600-1713299400@www.pecva.org
SUMMARY:Roots So Deep Film Screening
DESCRIPTION:Roots So Deep is a four-part documentary series all about intensive farmers and maverick scientists asking if an underutilized way to graze cattle\, that mimics the way bison once roamed the land\, can help get farmers out of debt\, restore our depleted soils\, rebuild wildlife habitat and draw down carbon? Cattle have been seen as eco-villains for a long time. What if they can help save us from catastrophic climate change? \n\n\n\n\n\n\n\nScreening followed by Q&A from Director Peter Byck and founding partner of Understanding Ag\, the Soil Health Academy Dr. Allen Williams. \n\n\n\nHosted by American Farmland Trust\, Kinloch Farm\, The Piedmont Environmental Council and Virginia Working Landscapes. \n\n\n\nRegister: https://www.eventbrite.com/e/roots-so-deep-film-screening-tickets-808008774997
URL:https://www.pecva.org/event/roots-so-deep-film-screening/
LOCATION:Germanna Community College – Daniel Technology Center\, 18121 Technology Drive\, Culpeper\, Virginia\, 22701\, United States
ATTACH;FMTTYPE=image/jpeg:https://www.pecva.org/wp-content/uploads/roots_so_deep-jpg.webp
END:VEVENT
BEGIN:VEVENT
DTSTART;TZID=America/New_York:20240420T100000
DTEND;TZID=America/New_York:20240420T150000
DTSTAMP:20260423T131455
CREATED:20240122T200048Z
LAST-MODIFIED:20240409T145007Z
UID:10001029-1713607200-1713625200@www.pecva.org
SUMMARY:Greene County 'Water is Life' Earth Day Celebration
DESCRIPTION:Join us at the Greene County Visitor Center and local environmental organizations for the 2024 Earth Day Festival! The event will be filled with fun\, and family activities to celebrate Earth Day. PEC will be tabling. \n\n\n\nQuestions – email ebyers@gcva.us.
URL:https://www.pecva.org/event/greene-county-water-is-life-earth-day-celebration/
LOCATION:Greene County Visitor Center\, 9157 Seminole Trail\, Ruckersville\, Virginia\, 22968\, United States
END:VEVENT
BEGIN:VEVENT
DTSTART;TZID=America/New_York:20240420T100000
DTEND;TZID=America/New_York:20240420T150000
DTSTAMP:20260423T131455
CREATED:20240322T172244Z
LAST-MODIFIED:20240322T172246Z
UID:10001045-1713607200-1713625200@www.pecva.org
SUMMARY:Second Annual Earth Day Open House
DESCRIPTION:As part of the 12th Annual Tom Tom Festival\, Panorama Natural Burial is hosting a day full of experiences planned in collaboration with local land stewards and naturalists\, including PEC. There will be guided hikes\, a tour of the burial ground\, a scavenger hunt for kids\, snacks\, and information galore. Join us in celebration and communion as we connect with this land\, with those who devote themselves to tending to it\, and with each other. Come as you are. Stay for some or for all. Together we will honor the richness of life on earth! \n\n\n\nThis event is free and open to the public. Children welcome. No pets please. RSVP on the Panorama Natural Burial website. Please share widely! \n\n\n\nSchedule of Events\n\n\n\nSchedule may be subject to slight tweaks. \n\n\n\n7:00am – 10:00am: Experience the Birds\, Piedmont Bird Club (Pre-Event) \n\n\n\n10:00am – 11:00am: Become Acquainted with Native Grassland\, Lauria McShane\, Piedmont Environmental Council \n\n\n\n11:00am – 12:00pm: Get to Know Native Plants\, Drew Chaney\, Center for Urban Habitats \n\n\n\n12:00pm – 1:00pm: Tour the Burial Ground\, Stephanie Bonney\, Panorama Natural Burial \n\n\n\n1:00pm – 2:00pm: Walk with the Trees\, Emily Ferguson\, Charlottesville Area Tree Stewards \n\n\n\nLocation: Panorama Natural Burial\, 3550 Reas Ford Ln\, Earlysville\, VA 22936\, USA
URL:https://www.pecva.org/event/second-annual-earth-day-open-house/
LOCATION:Virginia
ATTACH;FMTTYPE=image/jpeg:https://www.pecva.org/wp-content/uploads/Screenshot-2024-03-22-at-1.17.34 PM-jpg.webp
END:VEVENT
BEGIN:VEVENT
DTSTART;TZID=America/New_York:20240421T100000
DTEND;TZID=America/New_York:20240421T150000
DTSTAMP:20260423T131455
CREATED:20240322T170827Z
LAST-MODIFIED:20240322T171402Z
UID:10001043-1713693600-1713711600@www.pecva.org
SUMMARY:Front Royal Earth Day Celebration
DESCRIPTION:Join local environmental and conservation organizations in Front Royal on Sunday\, April 21 from 10 a.m. to 3 p.m. for an Earth Day celebration inspired by the iconic Lone Pine overlooking the town. Whether you’ve been a part of previous events or are joining for the first time\, kick off spring with us and showcase your commitment to the environment! \n\n\n\n\n\n\n\nThis year\, we are branding our event with the Lone Pine — a locally iconic tree that looks out over our town from its perch high up in Shenandoah National Park\, alongside mile marker 3.8 of Skyline Drive. Standing just over an estimated 100’ tall with a 36” dbh (diameter breast-high)\, the Lone Pine is an Eastern White Pine (Pinus strobus)\, a native evergreen tree species known for its beauty and longevity. Speaking of which\, we estimate that the Lone Pine was just a sapling when Skyline Drive was being built back in the 1930s\, putting this tree between 90 and 100 years old. \n\n\n\nFor many\, this tree is a waypoint\, a waving flag welcoming you back home after a trip away. For others\, the pine represents a symbol of strength\, a sentinel keeping a watchful eye over the community below. \n\n\n\nThe event will connect you with diverse\, nature-oriented conservation groups that showcase environmental stewardship at its best. There will be a petting zoo\, kids activities\, food trucks\, plants for sale\, tons of free give-aways\, a beekeeping and apothecary demo (11 a.m.)\, a wildlife education program by the Blue Ridge Wildlife Center (12-12:30 p.m.)\, electric vehicle display\, and an Arbor Day tree planting ceremony (1 p.m.)!
URL:https://www.pecva.org/event/front-royal-earth-day-celebration-2/
LOCATION:Virginia
ATTACH;FMTTYPE=image/jpeg:https://www.pecva.org/wp-content/uploads/Lone-Pine-Day_Save-the-Date-jpg.webp
END:VEVENT
BEGIN:VEVENT
DTSTART;TZID=America/New_York:20240421T130000
DTEND;TZID=America/New_York:20240421T150000
DTSTAMP:20260423T131455
CREATED:20240329T172213Z
LAST-MODIFIED:20240329T173542Z
UID:10001051-1713704400-1713711600@www.pecva.org
SUMMARY:A Community Read Event: Celebrating Women's History Month and Earth Day
DESCRIPTION:Join Albemarle County’s book club! For our spring 2024 Community Read\, we have chosen the book All We Can Save: Truth\, Courage\, and Solutions for the Climate Crisis as the feature read. \n\n\n\nWe acknowledge the valuable roles women play in our community (and world)\, we encourage you to read with us! This book is an anthology of writings by 60 women at the forefront of climate work. All We Can Save highlights an intersection between the historically significant contributions women have made to improvements in our society and environment. It also addresses the importance of climate resilience and the awareness of climate impacts over time. Copies of the book will be available to pick up for free at these locations: \n\n\n\n\nAll Jefferson-Madison Regional Library (JMRL) Branch locations\n\n\n\nAlbemarle County Little Free Library (LFL) locations\n\n\n\nCity of Charlottesville LFL locations\n\n\n\n\nSAVE THE DATE and RSVP! We’ve partnered with City of Charlottesville and local community partners for our special Community Read panel event\, celebrating Women’s History Month and Earth Day. The event will be held Sunday\, April 21 from 1-3 pm at Jefferson-Madison Regional Library (JMRL) Central Branch\, 201 E Market St\, Charlottesville\, VA 22902. \n\n\n\nAt the event\, there will be opportunities to learn about helpful resources related to climate work\, to celebrate women\, as well as chances to keep exploring ways we can equip and inspire our community to learn how to imagine a more inclusive and equitable world. We’ll also have a panel discussion for a conversation about the Community Read book All We Can Save: Truth\, Courage\, and Solutions for the Climate Crisis. Learn more and RSVP for the event in April by clicking this link. \n\n\n\nIt’ll be a great event\, and we hope you can join us! \n\n\n\n⭐ Community Partners for this season’s Community Read event: \n\n\n\n\nCharlottesville National Organization of Women\n\n\n\nCity of Charlottesville\n\n\n\nJefferson-Madison Regional Library\n\n\n\nPiedmont Environmental Council\n\n\n\nReleaf Cville\n\n\n\nResilient Together\n\n\n\nSierra Club: Virginia Chapter Piedmont Group
URL:https://www.pecva.org/event/a-community-read-event-celebrating-womens-history-month-and-earth-day/
LOCATION:Virginia
ATTACH;FMTTYPE=image/jpeg:https://www.pecva.org/wp-content/uploads/albemarle_community_read-jpg.webp
END:VEVENT
BEGIN:VEVENT
DTSTART;TZID=America/New_York:20240427T100000
DTEND;TZID=America/New_York:20240427T160000
DTSTAMP:20260423T131455
CREATED:20240212T151343Z
LAST-MODIFIED:20240308T142606Z
UID:10001033-1714212000-1714233600@www.pecva.org
SUMMARY:Historic Germanna Conservation Celebration
DESCRIPTION:The Siegen Forest Conservation Celebration and ribbon-cutting ceremony for our new Germanna Ford Public Boat Launch promises to be a day filled with fun\, nature\, and history. The day will feature archaeological and historical activities\, nature and history walks\, kayak launching\, hands-on activity stations\, and participation from our cultural and ecological partners with information tables\, and\, of course\, local food vendors! PEC staff involved in the conservation of Siegen Forest and the creation of the new public access site will be tabling. \n\n\n\nLocation: Historic Germanna1768 Germanna HwyLocust Grove\, VA \n\n\n\nIf you would like to sign up to be a vendor\, have a table\, or volunteer\, please contact us at info@germanna.org. \n\n\n\nView event on Facebook →
URL:https://www.pecva.org/event/historic-germanna-conservation-celebration/
LOCATION:Virginia
ATTACH;FMTTYPE=image/jpeg:https://www.pecva.org/wp-content/uploads/march_2024_headers_siegen-jpg.webp
END:VEVENT
BEGIN:VEVENT
DTSTART;TZID=America/New_York:20240427T100000
DTEND;TZID=America/New_York:20240427T170000
DTSTAMP:20260423T131455
CREATED:20240329T171535Z
LAST-MODIFIED:20240329T171538Z
UID:10001050-1714212000-1714237200@www.pecva.org
SUMMARY:Sperryfest 2024
DESCRIPTION:SperryFest returns to the Village of Sperryville in April with a Main Street festival\, duck races\, kids corner\, live music\, local artisans and more! \n\n\n\nLearn more\, register for duck races\, or volunteer: https://www.sperryfest.org/sperryfest-24 \n\n\n\nPEC is a sponsor and will be tabling – come say hi!
URL:https://www.pecva.org/event/sperryfest-2024/
LOCATION:Virginia
ATTACH;FMTTYPE=image/jpeg:https://www.pecva.org/wp-content/uploads/sperryfest_24-jpg.webp
END:VEVENT
BEGIN:VEVENT
DTSTART;TZID=America/New_York:20240429T183000
DTEND;TZID=America/New_York:20240429T200000
DTSTAMP:20260423T131455
CREATED:20240417T193931Z
LAST-MODIFIED:20240418T174807Z
UID:10001056-1714415400-1714420800@www.pecva.org
SUMMARY:Community Meeting on Data Centers and Transmission Lines in Bealeton
DESCRIPTION:Join The Piedmont Environmental Council and our partners in local community groups\, Citizens for Fauquier County\, Protect Catlett and Protect Fauquier\, for a community meeting about proposed data centers and transmission lines in southern Fauquier County and surrounding areas. \n\n\n\nThis meeting will take place on Monday\, April 29 from 6:30–8:30 p.m. at Liberty High School (auditorium) in Bealeton. Register → \n\n\n\nBackground\n\n\n\nIn December of last year\, PJM\, the organization that coordinates electricity transmission in 13 states and D.C.\, finalized its preferred options for transmission line routes including one major upgrade of an existing line running through Fauquier\, Prince William and Loudoun counties. Other routes impacting the area that were previously considered are anticipated to be considered again in the future. These expansion projects are being driven by the enormous amount of electricity demand coming from the explosion of data centers in Northern Virginia. \n\n\n\nTo add to the problem\, data center companies are increasingly looking for land to develop farther away from current data center hubs. Alongside recently approved data centers in nearby Culpeper and Prince William counties\, numerous proposals have emerged in Southern Fauquier\, posing additional risks to local communities and the environment. We’ll talk about some of these projects and provide you with information to help you weigh in with your elected officials. \n\n\n\nMapping the issue\n\n\n\nPEC’s interactive web map details some of the regional transmission proposals under consideration due to data center demand growth. \n\n\n\nView the web map full screen at pecva.org/transmissionmap. This map was updated on October 31\, 2023 to reflect PJM’s most recent set of proposals. \n\n\n\nEvent details\n\n\n\nDoors open at 6 p.m. The event will start with a few short presentations by the host organizations and include time for folks to ask questions and learn about actions they can take. \n\n\n\nSpace is limited. Please register to guarantee your spot. \n\n\n\nQuestions?\n\n\n\nContact Kevin Kask at kkask@pecva.org. \n\n\n\n\nRegister
URL:https://www.pecva.org/event/community-meeting-on-data-centers-and-transmission-lines-in-bealeton/
LOCATION:Liberty High School (auditorium)\, 6300 Independence Ave\, Bealeton\, Virginia\, 22712\, United States
ATTACH;FMTTYPE=image/jpeg:https://www.pecva.org/wp-content/uploads/data_center_haymarket.jpg
END:VEVENT
END:VCALENDAR