BEGIN:VCALENDAR
VERSION:2.0
PRODID:-//The Piedmont Environmental Council - ECPv6.15.20//NONSGML v1.0//EN
CALSCALE:GREGORIAN
METHOD:PUBLISH
X-WR-CALNAME:The Piedmont Environmental Council
X-ORIGINAL-URL:https://www.pecva.org
X-WR-CALDESC:Events for The Piedmont Environmental Council
REFRESH-INTERVAL;VALUE=DURATION:PT1H
X-Robots-Tag:noindex
X-PUBLISHED-TTL:PT1H
BEGIN:VTIMEZONE
TZID:America/New_York
BEGIN:DAYLIGHT
TZOFFSETFROM:-0500
TZOFFSETTO:-0400
TZNAME:EDT
DTSTART:20230312T070000
END:DAYLIGHT
BEGIN:STANDARD
TZOFFSETFROM:-0400
TZOFFSETTO:-0500
TZNAME:EST
DTSTART:20231105T060000
END:STANDARD
BEGIN:DAYLIGHT
TZOFFSETFROM:-0500
TZOFFSETTO:-0400
TZNAME:EDT
DTSTART:20240310T070000
END:DAYLIGHT
BEGIN:STANDARD
TZOFFSETFROM:-0400
TZOFFSETTO:-0500
TZNAME:EST
DTSTART:20241103T060000
END:STANDARD
BEGIN:DAYLIGHT
TZOFFSETFROM:-0500
TZOFFSETTO:-0400
TZNAME:EDT
DTSTART:20250309T070000
END:DAYLIGHT
BEGIN:STANDARD
TZOFFSETFROM:-0400
TZOFFSETTO:-0500
TZNAME:EST
DTSTART:20251102T060000
END:STANDARD
END:VTIMEZONE
BEGIN:VEVENT
DTSTART;TZID=America/New_York:20240113T090000
DTEND;TZID=America/New_York:20240113T113000
DTSTAMP:20260423T195159
CREATED:20231218T181845Z
LAST-MODIFIED:20231221T144221Z
UID:10001019-1705136400-1705145400@www.pecva.org
SUMMARY:Fifeville Community Trail Work Party
DESCRIPTION:Join the Rivanna Trails Foundation\, the Fifeville Neighborhood Association and PEC on Saturday\, Jan. 13\, 2024\, from 9 – 11:30 a.m. for a work/service party at the Fifeville Community Trail. \n\n\n\nThe work party will run from 9:00 – 11:30 a.m. You can meet at the RTF shed (at 8:45) or at Tonsler Park at (9:00). We have tools\, but bring work gloves\, shears or clippers if you have them and dress accordingly. Snacks will be served. Everyone is welcome! \n\n\n\nLearn more about the Fifeville Community Trail at pecva.org/fifeville.Work party details at rivannatrails.org/Events/
URL:https://www.pecva.org/event/fifeville-community-trail-work-party/
LOCATION:Tonsler Park\, 500 Cherry Avenue\, Charlottesville\, Virginia\, 22902
ATTACH;FMTTYPE=image/jpeg:https://www.pecva.org/wp-content/uploads/1200px_Fifeville_Trail_Tonsler_Park_Charlottesville_10.25.22_credit_Hugh_Kenny_PEC-6-of-31-jpg.webp
END:VEVENT
BEGIN:VEVENT
DTSTART;TZID=America/New_York:20240114T140000
DTEND;TZID=America/New_York:20240114T140000
DTSTAMP:20260423T195159
CREATED:20240112T151303Z
LAST-MODIFIED:20240112T151306Z
UID:10001022-1705240800-1705240800@www.pecva.org
SUMMARY:Manahoac Indians: Footprints in the Upper Rappahannock Watershed
DESCRIPTION:Join the Rappahannock Historical Society on January 14\, 2024\, at 2 p.m. for an adventure into the past with Brad Hatch\, Patawomeck Tribal Council and David Caprara\, Mannahoac Story Alliance. \n\n\n\nLocation: 485 Gay St.\, Washington\, VA
URL:https://www.pecva.org/event/manahoac-indians-footprints-in-the-upper-rappahannock-watershed/
LOCATION:Virginia
END:VEVENT
BEGIN:VEVENT
DTSTART;TZID=America/New_York:20240121T130000
DTEND;TZID=America/New_York:20240121T150000
DTSTAMP:20260423T195159
CREATED:20240102T170150Z
LAST-MODIFIED:20240102T170153Z
UID:10001021-1705842000-1705849200@www.pecva.org
SUMMARY:Tackling the Food Waste Challenge for People and Planet
DESCRIPTION:From farm\, to retail\, to processing and in our homes\, we lose 30 – 40% of the food we produce to waste while food insecurity grows\, water is scarce and environmental challenges expand. Ending waste is something we can all embrace! \n\n\n\nCome learn about how waste is being tackled around the nation by our local businesses and innovators. Ideas for ending farm waste to improve livelihoods\, delivering surplus to hungry neighbors\, creating new revenue opportunities for producers and avoiding “science experiments” in our refrigerators. Make a New Year’s resolution to be part of the solution. \n\n\n\nLocation: Hazel Hall – Laurel Ridge Community College6480 College St Warrenton Virginia 20187 \n\n\n\nKick off session – Dr Jason Clay will share how businesses and industries are tackling Food Waste at scale. Learn about ongoing innovations across the nations. \n\n\n\nDr. Clay is Executive Director of The Markets Institute at WWF and Senior Vice President of WWF’s Markets Team. Before joining WWF in 1999\, Jason ran a family farm\, taught at Harvard and Yale\, worked at the U.S. Department of Agriculture\, and spent more than 25 years working with human rights and environmental organizations.  \n\n\n\nPanel discussion – Meet some of our local leaders working on these issues in the Piedmont as they share practical examples of how they are curbing food waste by putting all our food resources to good use. \n\n\n\n\nMargy Thomas – PATH Foundation Program Officer – Food systems\n\n\n\nTom McDougall – Founder and CEO of 4P Foods and the Mid-Atlantic Food and Resilience Access Coalition (MAFRAC)\n\n\n\nGretchen Ledmor – Program Director Carver Food Enterprise Center\n\n\n\nNeal Wavra – Owner and Chef at Field and Main and Red Truck Bakery\n\n\n\n\nThis should be a lively session with opportunities for how we can all join forces to end waste. Please RSVP to marciawrightmarsh@gmail.com.
URL:https://www.pecva.org/event/tackling-the-food-waste-challenge-for-people-and-planet/
LOCATION:Virginia
END:VEVENT
BEGIN:VEVENT
DTSTART;TZID=America/New_York:20240122T180000
DTEND;TZID=America/New_York:20240122T200000
DTSTAMP:20260423T195159
CREATED:20240112T231206Z
LAST-MODIFIED:20240112T231530Z
UID:10001024-1705946400-1705953600@www.pecva.org
SUMMARY:Community Meeting on Data Centers and Energy Infrastructure - Purcellville
DESCRIPTION:Join us for a community meeting about the potential for new transmission line projects proposed in Loudoun County and surrounding areas tied to the explosive growth of data centers in the region. \n\n\n\nWe are holding this meeting on Monday\, January 22 from 6–8:30 p.m. at Woodgrove High School. Staff from The Piedmont Environmental Council will give a presentation and have plenty of time for Q&A. \n\n\n\n**Space is limited. Please register to guarantee your spot. \n\n\n\n\nRegister→\n\n\n\n\n—————— \n\n\n\nOver the last few years in the Virginia Piedmont\, there has been a proliferation of data centers — the physical structures that store the digital world — and the energy infrastructure they will require. The explosive growth of the data center industry represents a major challenge to achieving a clean energy future in Virginia and has resulted in thousands of acres of rural land lost with the brush of a pen stroke\, along with adverse impacts to land and water and energy-intensive structures\, at the expense of Virginia ratepayers. Learn more at pecva.org/datacenters. \n\n\n\nQuestions about the event? Contact Gem Bingol at gbingol@pecva.org.
URL:https://www.pecva.org/event/community-meeting-on-data-centers-and-energy-infrastructure-purcellville/
LOCATION:Woodgrove High School\, 36811 Allder School Rd.\, Purcellville\, Virginia\, 20132\, United States
ATTACH;FMTTYPE=image/jpeg:https://www.pecva.org/wp-content/uploads/1200px_data_center_loudoun_county_august_2023_credit_hugh_kenny_PEC-29-jpg.webp
END:VEVENT
BEGIN:VEVENT
DTSTART;TZID=America/New_York:20240130T160000
DTEND;TZID=America/New_York:20240130T180000
DTSTAMP:20260423T195159
CREATED:20240117T192119Z
LAST-MODIFIED:20240122T165621Z
UID:10001025-1706630400-1706637600@www.pecva.org
SUMMARY:Piedmont Mobility Alliance Meeting - January 2024
DESCRIPTION:The Piedmont Mobility Alliance is a coalition of organizations\, agencies\, businesses and groups who share a vision of a better-connected community for walking\, biking and other forms of active transportation in Charlottesville and Albemarle County. We gather every two months to share updates and work collaboratively on projects that none can accomplish alone. \n\n\n\nOur first meeting of 2024 will take place Tuesday\, January 30 from 4 – 6 p.m. at the Water Street Center. Add to my calendar → \n\n\n\nTentative Agenda\n\n\n\n\nActive Mobility Summit: March 21 at the Wool Factory\n\n\n\nBike Cville\n\n\n\nOrganization / Locality / Community Updates\n\n\n\nRegular meeting times\n\n\n\n\nPlease submit agenda items to Peter Krebs (pkrebs@pecva.org). \n\n\n\nThe event is free and open to all. Refreshments will be served. This is an in-person meeting and in-person attendance is encouraged. There will be a virtual option for those who cannot attend physically. \n\n\n\nClick here for Zoom Meeting Info\nhttps://us06web.zoom.us/j/83918884596?pwd=YpjId81IDmZsOix17bNd6wk0WzoxkG.1Meeting ID: 839 1888 4596Passcode: 269581One tap mobile+13017158592\,\,83918884596# US (Washington DC)+13052241968\,\,83918884596# US+1 301 715 8592 US (Washington DC)Find your local number: https://us06web.zoom.us/u/kdm9ktkFyK \n\n\n\n \n\n\n\n \n\n\n\n \n\n\n\n\n\n\n\n\n \n\n\n\nLocation: Water Street Center407 E Water St\, Charlottesville\, VA 22902
URL:https://www.pecva.org/event/piedmont-mobility-alliance-meeting/
LOCATION:Water Street Center\, 407 E Water St\, Charlottesville\, Virginia\, 22902\, United States
ATTACH;FMTTYPE=image/jpeg:https://www.pecva.org/wp-content/uploads/pma_jan_2024-jpg.webp
END:VEVENT
END:VCALENDAR