BEGIN:VCALENDAR
VERSION:2.0
PRODID:-//The Piedmont Environmental Council - ECPv6.15.20//NONSGML v1.0//EN
CALSCALE:GREGORIAN
METHOD:PUBLISH
X-ORIGINAL-URL:https://www.pecva.org
X-WR-CALDESC:Events for The Piedmont Environmental Council
REFRESH-INTERVAL;VALUE=DURATION:PT1H
X-Robots-Tag:noindex
X-PUBLISHED-TTL:PT1H
BEGIN:VTIMEZONE
TZID:America/New_York
BEGIN:DAYLIGHT
TZOFFSETFROM:-0500
TZOFFSETTO:-0400
TZNAME:EDT
DTSTART:20220313T070000
END:DAYLIGHT
BEGIN:STANDARD
TZOFFSETFROM:-0400
TZOFFSETTO:-0500
TZNAME:EST
DTSTART:20221106T060000
END:STANDARD
BEGIN:DAYLIGHT
TZOFFSETFROM:-0500
TZOFFSETTO:-0400
TZNAME:EDT
DTSTART:20230312T070000
END:DAYLIGHT
BEGIN:STANDARD
TZOFFSETFROM:-0400
TZOFFSETTO:-0500
TZNAME:EST
DTSTART:20231105T060000
END:STANDARD
BEGIN:DAYLIGHT
TZOFFSETFROM:-0500
TZOFFSETTO:-0400
TZNAME:EDT
DTSTART:20240310T070000
END:DAYLIGHT
BEGIN:STANDARD
TZOFFSETFROM:-0400
TZOFFSETTO:-0500
TZNAME:EST
DTSTART:20241103T060000
END:STANDARD
END:VTIMEZONE
BEGIN:VEVENT
DTSTART;TZID=America/New_York:20230108T130000
DTEND;TZID=America/New_York:20230108T150000
DTSTAMP:20260424T000946
CREATED:20221222T194859Z
LAST-MODIFIED:20221222T194902Z
UID:10000904-1673182800-1673190000@www.pecva.org
SUMMARY:Local Innovations To Conserve Native Biodiversity Through Sustainable Land Use
DESCRIPTION:Fauquier and adjoining communities are engaged in a remarkable nature restoration effort. We are working together to bring back wild bird populations and native habitats through smart agricultural and gardening practices using innovative science and conservation practices. \n\n\n\nJoin the Warrenton Garden Club for an afternoon of inspiration and introductions to the local experts working on biodiversity conservation. Whether you are a working farmer\, a committed gardener\, diehard birder or nature enthusiast\, there are so many opportunities in our community to advance your interests. \n\n\n\nProgram\n\n\n\nKeynote: Amy E. M. Johnson\, Ph.D – Program Director for Virginia Working Landscapes \n\n\n\nAmy will share the exciting new efforts of the Smithsonian collaborative in habitat restoration through partnerships with local experts. \n\n\n\nPanel discussion: \n\n\n\nOctober Greenfield – Wildlife Habitat Restoration Coordinator at Piedmont Environmental CouncilBert Harris\, Ph.D -Executive Director Clifton InstituteCharlotte Lorick – Naturalist and Biodiversity Management Team Coordinator at Oak Springs Garden FoundationGary Rzepecki – Director of Fauquier County Parks and Recreation\n\n\n\nLocation \n\n\n\nHazel Hall at Laurel Ridge Community College6480 College StWarrenton\, VA 20187 \n\n\n\nRSVP\n\n\n\nAdmission is free. Please email wgcforumJan8@gmail.com.
URL:https://www.pecva.org/event/local-innovations-to-conserve-native-biodiversity-through-sustainable-land-use/
LOCATION:Virginia
ATTACH;FMTTYPE=image/jpeg:https://www.pecva.org/wp-content/uploads/January-8-Conservation-forum1024_1.jpg
END:VEVENT
BEGIN:VEVENT
DTSTART;TZID=America/New_York:20230127T090000
DTEND;TZID=America/New_York:20230127T130000
DTSTAMP:20260424T000946
CREATED:20221121T220332Z
LAST-MODIFIED:20230107T013348Z
UID:10000850-1674810000-1674824400@www.pecva.org
SUMMARY:Solar on the Farm Workshop
DESCRIPTION:A workshop to introduce farmers and rural businesses in Fauquier and adjacent counties to opportunities for integrating distributed solar into their operations. \n\n\n\nWe will discuss opportunities to improve your farm business’ bottom line through energy efficiency and behind-the-meter solar energy. This includes small agriculture generator programs\, net metering\, and shared solar\, to name a few. Gain the knowledge to help your farm or rural business take advantage of available opportunities and incentives\, and examine the potential financial benefits of installing solar at your operation. \n\n\n\nGuest speakers from the USDA Rural Energy for America Program\, Virginia Cooperative Extension\, Solar United Neighbors\, and representatives from farms with solar installations will share information and experience. \n\n\n\nEvent partners include PEC\, Fauquier Farm Bureau\, Fauquier County office of the Virginia Cooperative Extension\, John Marshall Soil and Water Conservation District\, and the Fauquier Climate Change Group. \n\n\n\nPlease note: This workshop is not intended for landowners interested in utility-scale solar. It is focused on small-scale solar that can be integrated into the existing agricultural operation and help supplement the on-site energy needs of the farm. \n\n\n\nLunch will be provided (including vegetarian options). This event is free\, however\, advance registration is required by January 25. \n\n\n\nRegister on Eventbrite: https://www.eventbrite.com/e/solar-on-the-farm-workshop-tickets-472911800927 \n\n\n\nLocation: PATH Foundation – Conference Room A & B 321 Walker Drive #301 Warrenton\, VA 20186 \n\n\n\nA ground-mounted solar array. Photo by Julie Bolthouse/PEC
URL:https://www.pecva.org/event/solar-on-the-farm-workshop/
LOCATION:Virginia
ATTACH;FMTTYPE=image/jpeg:https://www.pecva.org/wp-content/uploads/Bob-Ellis-Cindy-Burbank-Solar-on-Farm-credit-Julie-Bolthouse-scaled.jpg
END:VEVENT
END:VCALENDAR