BEGIN:VCALENDAR
VERSION:2.0
PRODID:-//The Piedmont Environmental Council - ECPv6.15.20//NONSGML v1.0//EN
CALSCALE:GREGORIAN
METHOD:PUBLISH
X-WR-CALNAME:The Piedmont Environmental Council
X-ORIGINAL-URL:https://www.pecva.org
X-WR-CALDESC:Events for The Piedmont Environmental Council
REFRESH-INTERVAL;VALUE=DURATION:PT1H
X-Robots-Tag:noindex
X-PUBLISHED-TTL:PT1H
BEGIN:VTIMEZONE
TZID:America/New_York
BEGIN:DAYLIGHT
TZOFFSETFROM:-0500
TZOFFSETTO:-0400
TZNAME:EDT
DTSTART:20210314T070000
END:DAYLIGHT
BEGIN:STANDARD
TZOFFSETFROM:-0400
TZOFFSETTO:-0500
TZNAME:EST
DTSTART:20211107T060000
END:STANDARD
BEGIN:DAYLIGHT
TZOFFSETFROM:-0500
TZOFFSETTO:-0400
TZNAME:EDT
DTSTART:20220313T070000
END:DAYLIGHT
BEGIN:STANDARD
TZOFFSETFROM:-0400
TZOFFSETTO:-0500
TZNAME:EST
DTSTART:20221106T060000
END:STANDARD
BEGIN:DAYLIGHT
TZOFFSETFROM:-0500
TZOFFSETTO:-0400
TZNAME:EDT
DTSTART:20230312T070000
END:DAYLIGHT
BEGIN:STANDARD
TZOFFSETFROM:-0400
TZOFFSETTO:-0500
TZNAME:EST
DTSTART:20231105T060000
END:STANDARD
END:VTIMEZONE
BEGIN:VEVENT
DTSTART;TZID=America/New_York:20221109T180000
DTEND;TZID=America/New_York:20221109T190000
DTSTAMP:20260423T221602
CREATED:20221026T134418Z
LAST-MODIFIED:20221028T195616Z
UID:10000838-1668016800-1668020400@www.pecva.org
SUMMARY:Getting Around in Charlottesville: Results from the Move2HealthEquity Community Mobility Survey
DESCRIPTION:How do people get around in Charlottesville? Why don’t people walk\, bike or use transit more often? What can we do about transportation in our area? Move2Health Equity’s neighborhood-based community survey provides new insight into these questions. \n\n\n\nJoin the meeting at tinyurl.com/mobilityreport. \n\n\n\n428 people answered 15 questions in this 2021 survey about how they get around\, how they would like to get around\, what barriers they face and what solutions they would propose. The survey also asked residents how Covid-19 affected their transportation patterns. \n\n\n\nPeter Krebs\, of The Piedmont Environmental Council\, will present the survey’s primary findings and its implications. Other members of Move2Health Equity’s Active Communities team will also be present to offer their perspectives and suggested next steps as well. The presentation will last approximately 30 minutes\, followed by discussion. \n\n\n\nThe release of a 100-page report will correspond with this meeting. \n\n\n\n\n\n\n\nThe Move2Health Equity Coalition promotes healthy eating and active lifestyles for all community members. The coalition works through a Collective Impact Model in which independent member organizations combine resources to make a difference in areas where their missions overlap. Move2Health has four workgroups that address core priorities: Access to Healthcare\, Healthy Spaces\, Active Communities and Healthy Food Systems. \n\n\n\nFor 50 years\, The Piedmont Environmental Council has worked to promote compact\, livable cities\, surrounded by distinctly rural lands where farms\, forests\, and natural systems predominate. In 2021\, PEC brought together the Piedmont Mobility Alliance: a coalition of organizations that share a vision of a better-connected community for walking\, biking and other forms of active transportation in Charlottesville and Albemarle County. \n\n\n\nQuestions? Contact Peter Krebs at pkrebs@pecva.org.
URL:https://www.pecva.org/event/move2healthequity-results/
LOCATION:Virginia
ATTACH;FMTTYPE=image/png:https://www.pecva.org/wp-content/uploads/Screen-Shot-2022-10-26-at-9.41.09-AM.png
END:VEVENT
BEGIN:VEVENT
DTSTART;TZID=America/New_York:20221112T090000
DTEND;TZID=America/New_York:20221112T153000
DTSTAMP:20260423T221602
CREATED:20220908T214906Z
LAST-MODIFIED:20220912T171834Z
UID:10000882-1668243600-1668267000@www.pecva.org
SUMMARY:Tree Planting at Clermont Farm
DESCRIPTION:Join PEC for a volunteer tree planting at Clermont Farm in Clarke County on Saturday\, November 12! Volunteers will be needed for two shifts\, one from 9 a.m. – 12 p.m. and the other from 12:30 – 3:30 p.m.\, to help plant about 300 native trees and shrubs along Dog Run to enhance water quality and wildlife habitat as part of our Potomac Planting Program!  \n\n\n\nSign up: https://www.signupgenius.com/go/904094aaea62ba6fb6-tree4 \n\n\n\nVolunteer activities include tree planting\, which involves scalping (removing grass with a hoe)\, digging holes\, planting\, and pounding wooden stakes. This is a family-friendly event\, and volunteers of all ages are welcome! Volunteers under 18 must be accompanied by an adult. \n\n\n\nThis event is rain or shine. In the event of dangerous weather\, we will reschedule the day’s planting. We will provide all of the necessary tools for planting\, extra water\, and snacks (no lunch will be provided – please pack your own). Volunteers are encouraged to wear boots or closed-toe shoes and clothing that they’re comfortable getting dirty. Please bring bottled water\, sunscreen\, and bug spray if needed. The terrain is mostly flat\, with a short walk to the planting site. Please arrive 5-10 minutes before your shift begins\, as we will be conducting a brief training and walking to the site together! \n\n\n\nNote: Please drive down Clermont Lane until you see signs for parking. PEC and Clermont staff will be present to direct you to the actual planting area. \n\n\n\nLocation: Clermont Farm151 Clermont Ln\, Berryville\, VA 22611
URL:https://www.pecva.org/event/tree-planting-at-clermont-farm/
LOCATION:Virginia
ATTACH;FMTTYPE=image/jpeg:https://www.pecva.org/wp-content/uploads/thunder_lane_tree_planting_culpeper_4.14.22_credit_Hugh_Kenny_PEC-05778.jpg
END:VEVENT
END:VCALENDAR