BEGIN:VCALENDAR
VERSION:2.0
PRODID:-//The Piedmont Environmental Council - ECPv6.15.20//NONSGML v1.0//EN
CALSCALE:GREGORIAN
METHOD:PUBLISH
X-ORIGINAL-URL:https://www.pecva.org
X-WR-CALDESC:Events for The Piedmont Environmental Council
REFRESH-INTERVAL;VALUE=DURATION:PT1H
X-Robots-Tag:noindex
X-PUBLISHED-TTL:PT1H
BEGIN:VTIMEZONE
TZID:America/New_York
BEGIN:DAYLIGHT
TZOFFSETFROM:-0500
TZOFFSETTO:-0400
TZNAME:EDT
DTSTART:20210314T070000
END:DAYLIGHT
BEGIN:STANDARD
TZOFFSETFROM:-0400
TZOFFSETTO:-0500
TZNAME:EST
DTSTART:20211107T060000
END:STANDARD
BEGIN:DAYLIGHT
TZOFFSETFROM:-0500
TZOFFSETTO:-0400
TZNAME:EDT
DTSTART:20220313T070000
END:DAYLIGHT
BEGIN:STANDARD
TZOFFSETFROM:-0400
TZOFFSETTO:-0500
TZNAME:EST
DTSTART:20221106T060000
END:STANDARD
BEGIN:DAYLIGHT
TZOFFSETFROM:-0500
TZOFFSETTO:-0400
TZNAME:EDT
DTSTART:20230312T070000
END:DAYLIGHT
BEGIN:STANDARD
TZOFFSETFROM:-0400
TZOFFSETTO:-0500
TZNAME:EST
DTSTART:20231105T060000
END:STANDARD
END:VTIMEZONE
BEGIN:VEVENT
DTSTART;TZID=America/New_York:20220628T083000
DTEND;TZID=America/New_York:20220628T100000
DTSTAMP:20260425T215930
CREATED:20220614T171227Z
LAST-MODIFIED:20220614T171232Z
UID:10000849-1656405000-1656410400@www.pecva.org
SUMMARY:Piedmont Mobility Alliance Summer 2022 Meeting
DESCRIPTION:The Piedmont Mobility Alliance is a coalition of organizations\, agencies\, and people who share a vision of a better-connected community for walking\, biking and other forms of active transportation in Charlottesville and Albemarle County. \n\n\n\nThe Alliance’s Summer Meeting is an opportunity to share ideas and updates and to work on projects with collective benefit. \n\n\n\nMeeting registration required: https://us06web.zoom.us/meeting/register/tZUof-Ggpz4jGNcaGxGqMEa1hxBv8n4t2poI \n\n\n\nTentative Agenda\n\n\n\nAdmin (10 min)-Next meeting live\, combined w walk/site-visit?-Golden X Award Nominees \n\n\n\nWorkgroup breakouts (30 min)-Bike Fest-Loop de Ville (new)-Low Stress Routes (new\, combine w Neighborhood connections?)-Three Notch’d Trail-Transit Outreach \n\n\n\nOrganization Updates (20 – 30 min) \n\n\n\nPlease submit agenda ideas to PEC’s Albemarle-Charlottesville Community Organizer\, Peter Krebs\, at pkrebs@pecva.org.
URL:https://www.pecva.org/event/piedmont-mobility-alliance-summer-2022-meeting/
LOCATION:Virginia
ATTACH;FMTTYPE=image/jpeg:https://www.pecva.org/wp-content/uploads/active_quartet-summer2022.jpg
END:VEVENT
END:VCALENDAR