BEGIN:VCALENDAR
VERSION:2.0
PRODID:-//The Piedmont Environmental Council - ECPv6.15.20//NONSGML v1.0//EN
CALSCALE:GREGORIAN
METHOD:PUBLISH
X-ORIGINAL-URL:https://www.pecva.org
X-WR-CALDESC:Events for The Piedmont Environmental Council
REFRESH-INTERVAL;VALUE=DURATION:PT1H
X-Robots-Tag:noindex
X-PUBLISHED-TTL:PT1H
BEGIN:VTIMEZONE
TZID:America/New_York
BEGIN:DAYLIGHT
TZOFFSETFROM:-0500
TZOFFSETTO:-0400
TZNAME:EDT
DTSTART:20210314T070000
END:DAYLIGHT
BEGIN:STANDARD
TZOFFSETFROM:-0400
TZOFFSETTO:-0500
TZNAME:EST
DTSTART:20211107T060000
END:STANDARD
BEGIN:DAYLIGHT
TZOFFSETFROM:-0500
TZOFFSETTO:-0400
TZNAME:EDT
DTSTART:20220313T070000
END:DAYLIGHT
BEGIN:STANDARD
TZOFFSETFROM:-0400
TZOFFSETTO:-0500
TZNAME:EST
DTSTART:20221106T060000
END:STANDARD
BEGIN:DAYLIGHT
TZOFFSETFROM:-0500
TZOFFSETTO:-0400
TZNAME:EDT
DTSTART:20230312T070000
END:DAYLIGHT
BEGIN:STANDARD
TZOFFSETFROM:-0400
TZOFFSETTO:-0500
TZNAME:EST
DTSTART:20231105T060000
END:STANDARD
END:VTIMEZONE
BEGIN:VEVENT
DTSTART;TZID=America/New_York:20220111T093000
DTEND;TZID=America/New_York:20220111T110000
DTSTAMP:20260424T000125
CREATED:20211222T204808Z
LAST-MODIFIED:20220105T150136Z
UID:10000839-1641893400-1641898800@www.pecva.org
SUMMARY:Piedmont Mobility Alliance Winter Meeting (Charlottesville/Albemarle)
DESCRIPTION:Photos (left to right): Saunders-Monticello Trail (Peter Krebs/PEC); Prolyfyck Run Crew (William Jones III); BikeCville (Naomi Johndaughter); Riverview Park (Peter Krebs/PEC).\n\n\n\nThe winter meeting of the Piedmont Mobility Alliance will be an opportunity for individuals and groups to share updates and work on projects with collective benefit. \n\n\n\nTentative Agenda\n\n\n\nMobility Summit (Mon.\, Feb. 28 from 10 – 3)Mobility Social (Mardi Gras Bike Ride + Outdoor Party Tues.\, Mar. 1 5:30 p.m.)Bike Race / Celebration (Charlottesville Racing Club – April 16)Collective AdvocacyUpdates[Full Agenda] \n\n\n\nJoin Zoom Meeting:https://us06web.zoom.us/j/89339515152?pwd=SmtJUTJJYmFLZitHOWVCYVRleGRWZz09 \n\n\n\nMeeting ID: 893 3951 5152Passcode: 537390One tap mobile+13017158592\,\,89339515152# US (Washington DC)+13126266799\,\,89339515152# US (Chicago) \n\n\n\nDial by your location+1 301 715 8592 US (Washington DC)
URL:https://www.pecva.org/event/piedmont-mobility-alliance-meeting-charlottesville-albemarle/
LOCATION:Virginia
ATTACH;FMTTYPE=image/jpeg:https://www.pecva.org/wp-content/uploads/banners_graphics/active_mobility_coalition_banner_4_1000x.jpg
END:VEVENT
END:VCALENDAR