BEGIN:VCALENDAR
VERSION:2.0
PRODID:-//The Piedmont Environmental Council - ECPv6.15.20//NONSGML v1.0//EN
CALSCALE:GREGORIAN
METHOD:PUBLISH
X-ORIGINAL-URL:https://www.pecva.org
X-WR-CALDESC:Events for The Piedmont Environmental Council
REFRESH-INTERVAL;VALUE=DURATION:PT1H
X-Robots-Tag:noindex
X-PUBLISHED-TTL:PT1H
BEGIN:VTIMEZONE
TZID:America/New_York
BEGIN:DAYLIGHT
TZOFFSETFROM:-0500
TZOFFSETTO:-0400
TZNAME:EDT
DTSTART:20250309T070000
END:DAYLIGHT
BEGIN:STANDARD
TZOFFSETFROM:-0400
TZOFFSETTO:-0500
TZNAME:EST
DTSTART:20251102T060000
END:STANDARD
BEGIN:DAYLIGHT
TZOFFSETFROM:-0500
TZOFFSETTO:-0400
TZNAME:EDT
DTSTART:20260308T070000
END:DAYLIGHT
BEGIN:STANDARD
TZOFFSETFROM:-0400
TZOFFSETTO:-0500
TZNAME:EST
DTSTART:20261101T060000
END:STANDARD
BEGIN:DAYLIGHT
TZOFFSETFROM:-0500
TZOFFSETTO:-0400
TZNAME:EDT
DTSTART:20270314T070000
END:DAYLIGHT
BEGIN:STANDARD
TZOFFSETFROM:-0400
TZOFFSETTO:-0500
TZNAME:EST
DTSTART:20271107T060000
END:STANDARD
END:VTIMEZONE
BEGIN:VEVENT
DTSTART;TZID=America/New_York:20260516T100000
DTEND;TZID=America/New_York:20260516T153000
DTSTAMP:20260422T125745
CREATED:20260415T213052Z
LAST-MODIFIED:20260415T213409Z
UID:10001310-1778925600-1778945400@www.pecva.org
SUMMARY:Native Tree Giveaway at Gilberts Corner Market
DESCRIPTION:Come to the Gilberts Corner Farmers Market Saturday\, May 16 and take home a free native tree\, courtesy of the Piedmont Environmental Council! Free growing advice with every tree! \n\n\n\nThis giveaway is made possible in part thanks to support from friends of the Rappahannock and the Rappahannock Conservation Nursery. Funding for this giveaway comes from the Virginia Department of Forestry’s Trees for Clean Water Grant. \n\n\n\nCommunity participation is welcome! We could use some helping hands to join us at this event. Find out more and sign up here. \n\n\n\nQuestions? Contact Ellie Young at eyoung@pecva.org.
URL:https://www.pecva.org/event/native-tree-giveaway-at-gilberts-corner-market-3/
LOCATION:Gilberts Corner Farmers Market\, 39950 Little River Turnpike\, Aldie\, Virginia\, 20105
ATTACH;FMTTYPE=image/jpeg:https://www.pecva.org/wp-content/uploads/redbuds-for-PN.jpg
END:VEVENT
BEGIN:VEVENT
DTSTART;TZID=America/New_York:20260527T063000
DTEND;TZID=America/New_York:20260527T200000
DTSTAMP:20260422T125745
CREATED:20260408T180437Z
LAST-MODIFIED:20260408T180448Z
UID:10001302-1779863400-1779912000@www.pecva.org
SUMMARY:Be Lawyer Ready: Generation NEXT Workshop
DESCRIPTION:The Generation NEXT Program\, a partnership of Virginia Cooperative Extension and Virginia Department of Forestry\, will offer its annual land legacy planning webinar Wednesday\, May 27 from 6:30-8 p.m.  \n\n\n\nThis year’s theme is “Be Lawyer Ready\,” with presentations from an attorney and an experienced landowner. Be ready to meet with a lawyer for legacy planning\, save time & money by preparing ahead of time and learn how to get the outcomes you want for you land and heirs.  \n\n\n\n\nRegister Today\n\n\n\n\nRegistration is $10 for an unlimited number of family devices + one hardcopy of the Generation NEXT legacy planning book.  \n\n\n\nLawyerReadyDownload
URL:https://www.pecva.org/event/be-lawyer-ready-generation-next-workshop/
LOCATION:Virginia
ATTACH;FMTTYPE=image/jpeg:https://www.pecva.org/wp-content/uploads/Family_Day_Community_Farm_Credit_Hugh_Kenny_01079-1-scaled.jpg
END:VEVENT
BEGIN:VEVENT
DTSTART;TZID=America/New_York:20260528T120000
DTEND;TZID=America/New_York:20260528T130000
DTSTAMP:20260422T125745
CREATED:20260409T142755Z
LAST-MODIFIED:20260409T143721Z
UID:10001307-1779969600-1779973200@www.pecva.org
SUMMARY:Solarize Virginia Webinar Series
DESCRIPTION:Thinking about going solar but not sure where to start? Join Solarize Virginia for a free informative and practical webinar designed to help homeowners and businesses understand the solar landscape in 2026. In this session\, we’ll break down what’s shaping solar energy today. You’ll learn how solar works\, what it costs\, how financing options have evolved\, and what to expect from installation to long-term savings.  \n\n\n\nWhether you’re just beginning to explore solar or ready to take the next step\, this webinar will give you the tools and confidence to make an informed decision. Attendees will also have the opportunity to ask questions and connect with trusted local resources. We hope to see you there! \n\n\n\nSolarize Virginia is a collaboration between the Local Energy Alliance Program (LEAP)\, nonprofit organizations like PEC\, and municipalities throughout Virginia.
URL:https://www.pecva.org/event/solarize-virginia-webinar-series-7/
LOCATION:Virginia
ATTACH;FMTTYPE=image/jpeg:https://www.pecva.org/wp-content/uploads/Solarize-2026-event-web-banner-1000px.jpg
END:VEVENT
BEGIN:VEVENT
DTSTART;TZID=America/New_York:20260530T093000
DTEND;TZID=America/New_York:20260530T093000
DTSTAMP:20260422T125745
CREATED:20260313T192922Z
LAST-MODIFIED:20260313T192936Z
UID:10001293-1780133400-1780133400@www.pecva.org
SUMMARY:Save the Date: PEC's Annual Gathering
DESCRIPTION:This year’s annual gathering will take place at Longwood Farm in Fauquier County. We hope you’ll join us to meet new people\, hear an inspiring keynote\, catch up with friends over lunch\, participate in one of our workshops\, and learn more about local efforts to build a stronger\, more sustainable region.  \n\n\n\nWe look forward to sharing additional details with you soon! \n\n\n\nRead about last year’s event →
URL:https://www.pecva.org/event/save-the-date-pecs-annual-gathering/
LOCATION:Virginia
ATTACH;FMTTYPE=image/jpeg:https://www.pecva.org/wp-content/uploads/annual_gathering_eldon_farms_rappahannock_2025_thomas_woltz_6.8.25_credit_hugh_kenny_pec-62-1200x.jpg
END:VEVENT
BEGIN:VEVENT
DTSTART;TZID=America/New_York:20260610T140000
DTEND;TZID=America/New_York:20260610T150000
DTSTAMP:20260422T125745
CREATED:20260409T143156Z
LAST-MODIFIED:20260409T143214Z
UID:10001306-1781100000-1781103600@www.pecva.org
SUMMARY:Solarize Virginia Webinar Series
DESCRIPTION:Thinking about going solar but not sure where to start? Join Solarize Virginia for a free informative and practical webinar designed to help homeowners and businesses understand the solar landscape in 2026. In this session\, we’ll break down what’s shaping solar energy today. You’ll learn how solar works\, what it costs\, how financing options have evolved\, and what to expect from installation to long-term savings.  \n\n\n\nWhether you’re just beginning to explore solar or ready to take the next step\, this webinar will give you the tools and confidence to make an informed decision. Attendees will also have the opportunity to ask questions and connect with trusted local resources. We hope to see you there! \n\n\n\nSolarize Virginia is a collaboration between the Local Energy Alliance Program (LEAP)\, nonprofit organizations like PEC\, and municipalities throughout Virginia.
URL:https://www.pecva.org/event/solarize-virginia-webinar-series-8/
LOCATION:Virginia
ATTACH;FMTTYPE=image/jpeg:https://www.pecva.org/wp-content/uploads/Solarize-2026-event-web-banner-1000px.jpg
END:VEVENT
END:VCALENDAR