BEGIN:VCALENDAR
VERSION:2.0
PRODID:-//The Piedmont Environmental Council - ECPv6.15.20//NONSGML v1.0//EN
CALSCALE:GREGORIAN
METHOD:PUBLISH
X-WR-CALNAME:The Piedmont Environmental Council
X-ORIGINAL-URL:https://www.pecva.org
X-WR-CALDESC:Events for The Piedmont Environmental Council
REFRESH-INTERVAL;VALUE=DURATION:PT1H
X-Robots-Tag:noindex
X-PUBLISHED-TTL:PT1H
BEGIN:VTIMEZONE
TZID:America/New_York
BEGIN:DAYLIGHT
TZOFFSETFROM:-0500
TZOFFSETTO:-0400
TZNAME:EDT
DTSTART:20250309T070000
END:DAYLIGHT
BEGIN:STANDARD
TZOFFSETFROM:-0400
TZOFFSETTO:-0500
TZNAME:EST
DTSTART:20251102T060000
END:STANDARD
BEGIN:DAYLIGHT
TZOFFSETFROM:-0500
TZOFFSETTO:-0400
TZNAME:EDT
DTSTART:20260308T070000
END:DAYLIGHT
BEGIN:STANDARD
TZOFFSETFROM:-0400
TZOFFSETTO:-0500
TZNAME:EST
DTSTART:20261101T060000
END:STANDARD
BEGIN:DAYLIGHT
TZOFFSETFROM:-0500
TZOFFSETTO:-0400
TZNAME:EDT
DTSTART:20270314T070000
END:DAYLIGHT
BEGIN:STANDARD
TZOFFSETFROM:-0400
TZOFFSETTO:-0500
TZNAME:EST
DTSTART:20271107T060000
END:STANDARD
END:VTIMEZONE
BEGIN:VEVENT
DTSTART;TZID=America/New_York:20260425T100000
DTEND;TZID=America/New_York:20260425T120000
DTSTAMP:20260425T184019
CREATED:20260420T211300Z
LAST-MODIFIED:20260420T211310Z
UID:10001313-1777111200-1777118400@www.pecva.org
SUMMARY:Can Charlottesville Be a Blue Zone?
DESCRIPTION:Join Move2Health Equity for a community conversation Saturday\, April 25. Community members\, organizations\, and collectives are invited to define our collective goals\, identify stakeholders\, and build networks around  the question: Can Charlottesville be a Blue Zone? \n\n\n\nPEC’s Charlottesville & Albemarle Community Outreach Manager will be on a panel and facilitate one of the discussions about around Movement\, Right outlook\, Eating wisely\, or Connecting. \n\n\n\nThis event is a part of the Tom Tom Festival but is free\, and does not require registration. Location TBD pending Common House relocation.
URL:https://www.pecva.org/event/can-charlottesville-be-a-blue-zone/
LOCATION:Virginia
ATTACH;FMTTYPE=image/jpeg:https://www.pecva.org/wp-content/uploads/fall_folliage_tree_fauquier_credit_hugh_kenny-1-scaled-e1723661287797.jpg
END:VEVENT
BEGIN:VEVENT
DTSTART;TZID=America/New_York:20260425T100000
DTEND;TZID=America/New_York:20260425T153000
DTSTAMP:20260425T184019
CREATED:20260415T211010Z
LAST-MODIFIED:20260415T213250Z
UID:10001309-1777111200-1777131000@www.pecva.org
SUMMARY:Native Tree Giveaway at Gilberts Corner Market
DESCRIPTION:Come to the Gilberts Corner Farmers Market Saturday\, April 25 or May 16 and take home a free native tree\, courtesy of the Piedmont Environmental Council! Free growing advice with every tree!  \n\n\n\nThis giveaway is made possible in part thanks to support from friends of the Rappahannock and the Rappahannock Conservation Nursery. Funding for this giveaway comes from the Virginia Department of Forestry’s Trees for Clean Water Grant. \n\n\n\nCommunity participation is welcome!  We could use some helping hands to join us at this event.                       Find out more and sign up here.    \n\n\n\nQuestions?  Contact Ellie Young at eyoung@pecva.org.
URL:https://www.pecva.org/event/native-tree-giveaway-at-gilberts-corner-market-2/
LOCATION:Gilberts Corner Farmers Market\, 39950 Little River Turnpike\, Aldie\, Virginia\, 20105
ATTACH;FMTTYPE=image/jpeg:https://www.pecva.org/wp-content/uploads/tree-giveaway-gilberts-corner-farmers-market-may-2025-credit-marco-sanchez-05359-1200x.jpg
END:VEVENT
BEGIN:VEVENT
DTSTART;TZID=America/New_York:20260425T100000
DTEND;TZID=America/New_York:20260425T170000
DTSTAMP:20260425T184019
CREATED:20260417T212045Z
LAST-MODIFIED:20260417T212057Z
UID:10001311-1777111200-1777136400@www.pecva.org
SUMMARY:SperryFest
DESCRIPTION:Sperryville\, Virginia.\n\n\n\nSperryFest is Sperryville\, Virginia’s largest and most vibrant annual celebration\, centered on Main Street and the Schoolhouse Field. \n\n\n\nThe day-long event features The Great Rubber Duck Race on the Mighty Thornton River\, dozens of artisan vendors\, food trucks\, beverage providers\, live music by local musicians\, and 20+ local nonprofit organizations. There is also a dedicated children’s area offering free\, interactive activities.
URL:https://www.pecva.org/event/sperryfest/
LOCATION:Virginia
ATTACH;FMTTYPE=image/jpeg:https://www.pecva.org/wp-content/uploads/sperryville_rappahannock_August_2021_credit_hugh_kenny-900px.jpg
END:VEVENT
END:VCALENDAR