BEGIN:VCALENDAR
VERSION:2.0
PRODID:-//The Piedmont Environmental Council - ECPv6.15.20//NONSGML v1.0//EN
CALSCALE:GREGORIAN
METHOD:PUBLISH
X-WR-CALNAME:The Piedmont Environmental Council
X-ORIGINAL-URL:https://www.pecva.org
X-WR-CALDESC:Events for The Piedmont Environmental Council
REFRESH-INTERVAL;VALUE=DURATION:PT1H
X-Robots-Tag:noindex
X-PUBLISHED-TTL:PT1H
BEGIN:VTIMEZONE
TZID:America/New_York
BEGIN:DAYLIGHT
TZOFFSETFROM:-0500
TZOFFSETTO:-0400
TZNAME:EDT
DTSTART:20250309T070000
END:DAYLIGHT
BEGIN:STANDARD
TZOFFSETFROM:-0400
TZOFFSETTO:-0500
TZNAME:EST
DTSTART:20251102T060000
END:STANDARD
BEGIN:DAYLIGHT
TZOFFSETFROM:-0500
TZOFFSETTO:-0400
TZNAME:EDT
DTSTART:20260308T070000
END:DAYLIGHT
BEGIN:STANDARD
TZOFFSETFROM:-0400
TZOFFSETTO:-0500
TZNAME:EST
DTSTART:20261101T060000
END:STANDARD
BEGIN:DAYLIGHT
TZOFFSETFROM:-0500
TZOFFSETTO:-0400
TZNAME:EDT
DTSTART:20270314T070000
END:DAYLIGHT
BEGIN:STANDARD
TZOFFSETFROM:-0400
TZOFFSETTO:-0500
TZNAME:EST
DTSTART:20271107T060000
END:STANDARD
END:VTIMEZONE
BEGIN:VEVENT
DTSTART;TZID=America/New_York:20260424T090000
DTEND;TZID=America/New_York:20260424T120000
DTSTAMP:20260424T022627
CREATED:20260318T140732Z
LAST-MODIFIED:20260319T135006Z
UID:10001282-1777021200-1777032000@www.pecva.org
SUMMARY:Guided Hike to the Piedmont Memorial Overlook
DESCRIPTION:A group taking in the view at PEC’s Piedmont Memorial Overlook property in Paris\, VA. Credit Hugh Kenny/PEC.\n\n\n\nCelebrate Earth Week and Arbor Day with a guided hike to a Treasured View! Join staff from The Piedmont Environmental Council (PEC) in partnership with Sky Meadows State Park for an unforgettable outdoor experience.  \n\n\n\nThis guided hike to the Piedmont Memorial Overlook\, recently recognized as a “Treasured View” by Scenic Virginia\, will honor strategic partnerships in the outdoors with both park rangers and PEC staff as your guides. \n\n\n\nThis will be a strenuous hike of approximately 3 miles round trip\, with an elevation gain of 600 feet over the 1.5-mile ascent to the overlook. \n\n\n\n\nLearn more and register\n\n\n\n\n\n\n\n\n\n\n\n\nAbout the Overlook\n\n\n\n\n\n\n\nThe Piedmont Memorial Overlook sits within a large block of privately and publicly protected land along the Blue Ridge Mountains. It’s a patchwork of forest\, livestock pasture\, and mountainous fields that was actively farmed and heavily grazed by cattle from the late 18th century until the recent past. \n\n\n\nIn 2012\, with funding from the USDA\, PEC began an extensive restoration effort on the 50-acre parcel. We first eliminated fescue and other non-native plants from the pasture and then seeded native grasses and wildflowers. The property now serves as an active demonstration site for landowners interested in seeing the outcomes of habitat restoration practices.  \n\n\n\nThe 16-acre native meadow is home to songbirds\, butterflies\, raptors\, bees and black bears. Native wildflower species provide forage for pollinators and habitat for grassland and shrubland birds. PEC manages the meadow using prescribed fire\, late winter mowing and invasive species monitoring. 
URL:https://www.pecva.org/event/guided-hike-to-the-piedmont-memorial-overlook/
LOCATION:Sky Meadows State Park\, 11012 Edmonds Ln\, Delaplane\, Virginia\, 20144\, United States
ATTACH;FMTTYPE=image/jpeg:https://www.pecva.org/wp-content/uploads/piedmont_memorial_overlook_meadow_walk_7-18-25_credit_hugh_kenny-28-1200x.jpg
END:VEVENT
BEGIN:VEVENT
DTSTART;TZID=America/New_York:20260424T160000
DTEND;TZID=America/New_York:20260424T190000
DTSTAMP:20260424T022627
CREATED:20260313T004308Z
LAST-MODIFIED:20260313T004317Z
UID:10001281-1777046400-1777057200@www.pecva.org
SUMMARY:Arbor Day Tree Planting & Picnic at Banshee Reeks Nature Preserve
DESCRIPTION:Bring the family out to Banshee Reeks Nature Preserve in Loudoun County for a special Arbor Day event honoring Virginia’s 250th anniversary with the planting of a commemorative Liberty Tree – the first of its kind in the state of Virginia! \n\n\n\nStay afterward for a family-friendly picnic on the lawn with plenty of fun for all ages! \n\n\n\nThis event is part of the VA250 statewide celebration. No registration required. \n\n\n\nLearn more → \n\n\n\nWhat is a Liberty Tree?The Liberty Tree was a powerful symbol of colonial resistance in the American Revolution\, originating as a specific elm tree in Boston used by the Sons of Liberty for protests against British rule\, most famously against the Stamp Act. This historic tree became a beacon of hope to colonists and a symbol of American freedom. In an attempt to stymie these colonists\, the British destroyed Boston’s Liberty Tree. Suddenly\, patriots throughout the 13 colonies began to designate new Liberty Trees. Today\, planting a dedicated Liberty Tree promotes the value and benefits of trees to current and future generations while informing\, educating and inspiring youth with stories of their connection to historic “legacy” trees.
URL:https://www.pecva.org/event/arbor-day-tree-planting-picnic-at-banshee-reeks-nature-preserve/
LOCATION:Banshee Reeks Nature Preserve\, 21085 The Woods Rd\, Leesburg\, Virginia\, 20186\, United States
END:VEVENT
END:VCALENDAR